BEGIN:VCALENDAR
VERSION:2.0
PRODID:-//ChamberMaster//Event Calendar 2.0//EN
METHOD:PUBLISH
X-PUBLISHED-TTL:P3D
REFRESH-INTERVAL:P3D
CALSCALE:GREGORIAN
BEGIN:VEVENT
DTSTART:20220331T160000Z
DTEND:20220331T173000Z
X-MICROSOFT-CDO-ALLDAYEVENT:FALSE
SUMMARY:Wellness Month: Netwalk with superstar athlete Phil Healy
DESCRIPTION:Olympic athlete Phil Healy will lead us on a brisk Netwalk on the Greenway\, meeting at the Carriganore entrance from 5pm to depart at 5.30pm sharp.\n\n\n\nFollowing the walk\, we will return to WIT Arena for a networking reception. Bring along your colleagues and friends\, get the steps in before dinner\, catch up with others in the business community and of course don't forget your runners!\n\n\n\nRegister and be sure to share with your contacts. \n\n\n\nThis event is open to all.
X-ALT-DESC;FMTTYPE=text/html:<strong>Olympic athlete Phil Healy will lead us on a brisk Netwalk on the Greenway\, meeting at the Carriganore entrance from 5pm to depart at 5.30pm sharp.</strong><br />\n<br />\nFollowing the walk\, we will return to WIT Arena for a networking reception. Bring along your colleagues and friends\, get the steps in before dinner\, catch up with others in the business community and of course don&#39\;t forget your runners!<br />\n<br />\nRegister and be sure to share with your contacts.&nbsp\;<br />\n<br />\nThis event is open to all.
LOCATION:Waterford Greenway and WIT Arena
UID:e.3615.54
SEQUENCE:3
DTSTAMP:20260423T231955Z
URL:http://crm.waterfordchamber.ie/events/details/wellness-month-netwalk-with-superstar-athlete-phil-healy-54
END:VEVENT

END:VCALENDAR
