BEGIN:VCALENDAR
VERSION:2.0
PRODID:-//ChamberMaster//Event Calendar 2.0//EN
METHOD:PUBLISH
X-PUBLISHED-TTL:P3D
REFRESH-INTERVAL:P3D
CALSCALE:GREGORIAN
BEGIN:VEVENT
DTSTART:20220314T123000Z
DTEND:20220314T133000Z
X-MICROSOFT-CDO-ALLDAYEVENT:FALSE
SUMMARY:Wellness Month: Injury Prevention & Recovery
DESCRIPTION:Injury Prevention & Recovery with Dr. Dualtach MacColgain.\n\n\n\nDr. Dualtach Mac Colg in\, is a graduate of the University of Glasgow\, having previously obtained an honours degree in Physiotherapy from University College Dublin. He also holds a Masters in Sports and Exercise Medicine from Trinity College.\n\n \n\nDr. Mac Colg in is team doctor to the Meath Senior Gaelic Football team and Clinical Lead for the U-13 to U-20 Meath Football teams. He has many years' experience working across multiple sporting disciplines at an elite level. His special interest is in the assessment and management of musculoskeletal injuries and pitchside care of athletes.\n\n\n\nDr. Mac Colg in is a retired elite athlete and has represented Ireland in sailing at the World and European Championship levels. He is also an Irish national championship winning rowing coach.
X-ALT-DESC;FMTTYPE=text/html:<strong>Injury Prevention &amp\; Recovery&nbsp\;with Dr. Dualtach MacColgain.</strong><br />\n<br />\nDr. Dualtach Mac Colg&aacute\;in\, is a graduate of the University of Glasgow\, having previously obtained an honours degree in Physiotherapy from University College Dublin. He also holds a Masters in Sports and Exercise Medicine from Trinity College.<br />\n&nbsp\;<br />\nDr. Mac Colg&aacute\;in is team doctor to the Meath Senior Gaelic Football team and Clinical Lead for the U-13 to U-20 Meath Football teams. He has many years&rsquo\; experience working across multiple sporting disciplines at an elite level. His special interest is in the assessment and management of musculoskeletal injuries and pitchside care of athletes.<br />\n<br />\nDr. Mac Colg&aacute\;in is a retired elite athlete and has represented Ireland in sailing at the World and European Championship levels. He is also an Irish national championship winning rowing coach.
LOCATION:Webinar
UID:e.3615.53
SEQUENCE:3
DTSTAMP:20260423T232143Z
URL:http://crm.waterfordchamber.ie/events/details/wellness-month-injury-prevention-recovery-53
END:VEVENT

END:VCALENDAR
