BEGIN:VCALENDAR
VERSION:2.0
PRODID:-//ChamberMaster//Event Calendar 2.0//EN
METHOD:PUBLISH
X-PUBLISHED-TTL:P3D
REFRESH-INTERVAL:P3D
CALSCALE:GREGORIAN
BEGIN:VEVENT
DTSTART:20220308T160000Z
DTEND:20220308T200000Z
X-MICROSOFT-CDO-ALLDAYEVENT:FALSE
SUMMARY:Vicki Phelan Portrait
DESCRIPTION:VICKY PHELAN PORTRAIT\nWhen we think of inspiring women\, there is one name who always tops the billing   Vicky Phelan. Her bravery and determination have changed so much for so many.\n\n \n\nWaterford Chamber will be joining forces with WIT\, Network Waterford\, Waterford Chamber Skillnet and the Waterford Local Enterprise office on International Women's Day to pay tribute to Vicky and to rise vital funds for her chosen charities the Solas Centre and the Shona Project.\n\n \n\nOn Tuesday\, March 8th the Triptych Portrait of Vicky Phelan will be on public display from 4pm to 6pm in the Parlour Vintage Tea Rooms. This will also be the final event in the inimitable tea rooms as it closes its doors permanently thereafter.\n\n \n\nFollowing the public viewing\, the organisations will host a business networking event\, where guests will have the opportunity to meet with Vicky's lifelong friend David Brennan who purchased the portrait at auction and hear from artist Vincent Devine on the heartfelt story behind the creation of this masterpiece.\n\n \n\nAccording to Gerald Hurley\, Waterford Chamber President\, "This is a phenomenal opportunity to view this magnificent piece of art\, to pause and reflect and all the while\, raise money for two charities that are so important to Vicky.\n\n \n\n"Everyone is welcome to come along and you can donate on site or also online at https://www.idonate.ie/VickiPhelanPortraitExpoMar22. What better way to mark International Women's Day then to honour an incredible lady who has changed the landscape of the Irish health system for future generations.\n\n \n\n"We always say collaboration is key\, and it is fantastic that we can come together with our colleagues in WIT\, Network Waterford\, Waterford LEO and Waterford Chamber Skillnet to present an opportunity such as this.\n\n"It will also be quite a poignant occasion as it marks the last event with our friends at the Parlour Vintage Tea Rooms. What an institution it has become and we will certainly miss the activity in our building. So if anyone wants to say goodbye to their favourite hideaway\, please come along on March 8th from 4pm to 6pm and of course don't forget your wallet!"\n\n \n\nSpeaking about the event and marking the end of an era\, Sarah Jane Cleary\, owner of the Parlour Vintage Tea Rooms said: "All good things come to an end but what better way to say goodbye than to honour a powerful woman on International Women's Day. To be able to facilitate fundraising for the Solas Centre and the Shona Project\, on behalf of Vicky Phelan is a great honour and the perfect way to say goodbye. The entire contents of The Parlour Vintage Tea Rooms will be up for sale with a percentage of the proceeds going towards Vicky's chosen charities\, so people can always remember the good times we had here\, while also remembering what Vicky Phelan has done for the women of Ireland. It is our greatest honour to join with the business community to do this."\n\nFollowing the public viewing\, Network Waterford will host a networking reception\, with Waterford Chamber and WIT\, from 6.30pm in the Parlour Vintage Tea Rooms. According to Network President Margaret Julien\, "As an organisation\, celebrating women's achievements is at the core of what we do and we will certainly be digging deep into our pockets to support Vicky's chosen charities. Having a private audience with the artist is an incredible opportunity and we are inviting the entire business community to come out and support this event.\n\n \n\n"Following the event\, we are moving to Garter Lane for the opening night of How To Fall Flat on Your Face by Waterford's Katie Honan\, another female tour-de-force. Katie's play focuses on mental health and the enduring strength of women. After missing out on so much over the past two years\, International Women's Day 2022 is certainly going to be one to remember."\n\nTo register for the Network Waterford event\, please go to https://www.eventbrite.ie/e/international-womens-day-networking-reception-tickets-274410809117?aff=ebdssbdestsearch or come along to the Parlour Vintage Tea Rooms between 4pm and 6pm for the public viewing.
X-ALT-DESC;FMTTYPE=text/html:<span style="font-size:16px\;"><span style="font-family:courier new\;"><strong style="color: rgb(32\, 31\, 30)\; font-family: Arial\; font-size: 13.3333px\; background-color: rgb(255\, 255\, 255)\;">VICKY PHELAN PORTRAIT</strong></span></span>\n<p style="color: rgb(50\, 49\, 48)\; font-size: 11pt\; font-family: Calibri\, sans-serif\; margin: 0px\;"><span style="font-size:14px\;"><span style="font-family:tahoma\;"><span lang="en-GB" style="margin: 0px\; padding: 0px\; border: 0px\; font-style: inherit\; font-variant: inherit\; font-weight: inherit\; font-stretch: inherit\; line-height: inherit\; vertical-align: baseline\; color: inherit\;">When we think of inspiring women\, there is one name who always tops the billing &ndash\; Vicky Phelan. Her bravery and determination have changed so much for so many.</span></span></span><br />\n&nbsp\;</p>\n\n<p style="color: rgb(50\, 49\, 48)\; font-size: 11pt\; font-family: Calibri\, sans-serif\; margin: 0px\;"><span style="font-size:14px\;"><span style="font-family:tahoma\;"><span lang="en-GB" style="margin: 0px\; padding: 0px\; border: 0px\; font-style: inherit\; font-variant: inherit\; font-weight: inherit\; font-stretch: inherit\; line-height: inherit\; vertical-align: baseline\; color: inherit\;">Waterford Chamber will be joining forces with WIT\, Network Waterford\, Waterford Chamber Skillnet and the Waterford Local Enterprise office on International Women&rsquo\;s Day to pay tribute to Vicky and to rise vital funds for her chosen charities the Solas Centre and the Shona Project.</span></span></span><br />\n&nbsp\;</p>\n\n<p style="color: rgb(50\, 49\, 48)\; font-size: 11pt\; font-family: Calibri\, sans-serif\; margin: 0px\;"><span style="font-size:14px\;"><span style="font-family:tahoma\;"><span lang="en-GB" style="margin: 0px\; padding: 0px\; border: 0px\; font-style: inherit\; font-variant: inherit\; font-weight: inherit\; font-stretch: inherit\; line-height: inherit\; vertical-align: baseline\; color: inherit\;">On Tuesday\, March 8<sup>th</sup>&nbsp\;the Triptych Portrait of Vicky Phelan will be on public display from 4pm to 6pm in the Parlour Vintage Tea Rooms. This will also be the final event in the inimitable tea rooms as it closes its doors permanently thereafter.</span></span></span><br />\n&nbsp\;</p>\n\n<p style="color: rgb(50\, 49\, 48)\; font-size: 11pt\; font-family: Calibri\, sans-serif\; margin: 0px\;"><span style="font-size:14px\;"><span style="font-family:tahoma\;"><span lang="en-GB" style="margin: 0px\; padding: 0px\; border: 0px\; font-style: inherit\; font-variant: inherit\; font-weight: inherit\; font-stretch: inherit\; line-height: inherit\; vertical-align: baseline\; color: inherit\;">Following the public viewing\, the organisations will host a business networking event\, where guests will have the opportunity to meet with Vicky&rsquo\;s lifelong friend David Brennan who purchased the portrait at auction and hear from artist Vincent Devine on the heartfelt story behind the creation of this masterpiece.</span></span></span><br />\n&nbsp\;</p>\n\n<p style="color: rgb(50\, 49\, 48)\; font-size: 11pt\; font-family: Calibri\, sans-serif\; margin: 0px\;"><span style="font-size:14px\;"><span style="font-family:tahoma\;"><span lang="en-GB" style="margin: 0px\; padding: 0px\; border: 0px\; font-style: inherit\; font-variant: inherit\; font-weight: inherit\; font-stretch: inherit\; line-height: inherit\; vertical-align: baseline\; color: inherit\;">According to Gerald Hurley\, Waterford Chamber President\, &ldquo\;This is a phenomenal opportunity to view this magnificent piece of art\, to pause and reflect and all the while\, raise money for two charities that are so important to Vicky.</span></span></span><br />\n&nbsp\;</p>\n\n<p style="color: rgb(50\, 49\, 48)\; font-size: 11pt\; font-family: Calibri\, sans-serif\; margin: 0px\;"><span style="font-size:14px\;"><span style="font-family:tahoma\;"><span lang="en-GB" style="margin: 0px\; padding: 0px\; border: 0px\; font-style: inherit\; font-variant: inherit\; font-weight: inherit\; font-stretch: inherit\; line-height: inherit\; vertical-align: baseline\; color: black\;">&ldquo\;Everyone is welcome to come along and you can donate on site or also online at&nbsp\;</span><span lang="en-GB" style="margin: 0px\; padding: 0px\; border: 0px\; font-style: inherit\; font-variant: inherit\; font-weight: inherit\; font-stretch: inherit\; line-height: inherit\; vertical-align: baseline\; color: rgb(33\, 33\, 33)\;"><a data-auth="NotApplicable" data-linkindex="2" href="https://www.idonate.ie/VickiPhelanPortraitExpoMar22" rel="noopener noreferrer" style="margin: 0px\; padding: 0px\; border: 0px\; font: inherit\; vertical-align: baseline\;" target="_blank">https://www.idonate.ie/VickiPhelanPortraitExpoMar22</a>. What better way to mark International Women&rsquo\;s Day then to honour an incredible lady who has changed the landscape of the Irish health system for future generations.</span></span></span><br />\n&nbsp\;</p>\n\n<p style="color: rgb(50\, 49\, 48)\; font-size: 11pt\; font-family: Calibri\, sans-serif\; margin: 0px\;"><span style="font-size:14px\;"><span style="font-family:tahoma\;"><span lang="en-GB" style="margin: 0px\; padding: 0px\; border: 0px\; font-style: inherit\; font-variant: inherit\; font-weight: inherit\; font-stretch: inherit\; line-height: inherit\; vertical-align: baseline\; color: rgb(33\, 33\, 33)\;">&ldquo\;We always say collaboration is key\, and it is fantastic that we can come together with our colleagues in WIT\, Network Waterford\, Waterford LEO and Waterford Chamber Skillnet to present an opportunity such as this.</span></span></span></p>\n\n<p style="color: rgb(50\, 49\, 48)\; font-size: 11pt\; font-family: Calibri\, sans-serif\; margin: 0px\;"><span style="font-size:14px\;"><span style="font-family:tahoma\;"><span lang="en-GB" style="margin: 0px\; padding: 0px\; border: 0px\; font-style: inherit\; font-variant: inherit\; font-weight: inherit\; font-stretch: inherit\; line-height: inherit\; vertical-align: baseline\; color: rgb(33\, 33\, 33)\;">&ldquo\;It will also be quite a poignant occasion as it marks the last event with our friends at the Parlour Vintage Tea Rooms. What an institution it has become and we will certainly miss the activity in our building. So if anyone wants to say goodbye to their favourite hideaway\, please come along on March 8<sup>th</sup>&nbsp\;from 4pm to 6pm and of course don&rsquo\;t forget your wallet!&rdquo\;</span></span></span><br />\n&nbsp\;</p>\n\n<p style="color: rgb(50\, 49\, 48)\; font-size: 11pt\; font-family: Calibri\, sans-serif\; margin: 0px\;"><span style="font-size:14px\;"><span style="font-family:tahoma\;"><span lang="en-GB" style="margin: 0px\; padding: 0px\; border: 0px\; font-style: inherit\; font-variant: inherit\; font-weight: inherit\; font-stretch: inherit\; line-height: inherit\; vertical-align: baseline\; color: rgb(33\, 33\, 33)\;">Speaking about the event and marking the end of an era\, Sarah Jane Cleary\, owner of the Parlour Vintage Tea Rooms said: &ldquo\;All good things come to an end but what better way to say goodbye than to honour a powerful woman on International Women&rsquo\;s Day. To be able to facilitate fundraising for the Solas Centre and the Shona Project\, on behalf of Vicky Phelan is a great honour and the perfect way to say goodbye.&nbsp\;</span><span lang="en-GB" style="margin: 0px\; padding: 0px\; border: 0px\; font-style: inherit\; font-variant: inherit\; font-weight: inherit\; font-stretch: inherit\; line-height: inherit\; vertical-align: baseline\; color: inherit\;">The entire contents of The Parlour Vintage Tea Rooms will be up for sale with a percentage of the proceeds going towards Vicky&#39\;s chosen charities\, so people can always remember the good times we had here\, while also remembering what Vicky Phelan has done for the women of Ireland. It is our greatest honour to join with the business community to do this.&rdquo\;</span></span></span></p>\n\n<p style="color: rgb(50\, 49\, 48)\; font-size: 11pt\; font-family: Calibri\, sans-serif\; margin: 0px\;"><span style="font-size:14px\;"><span style="font-family:tahoma\;"><span lang="en-GB" style="margin: 0px\; padding: 0px\; border: 0px\; font-style: inherit\; font-variant: inherit\; font-weight: inherit\; font-stretch: inherit\; line-height: inherit\; vertical-align: baseline\; color: inherit\;">Following the public viewing\, Network Waterford will host a networking reception\, with Waterford Chamber and WIT\, from 6.30pm in the Parlour Vintage Tea Rooms. According to Network President Margaret Julien\, &ldquo\;As an organisation\, celebrating women&rsquo\;s achievements is at the core of what we do and we will certainly be digging deep into our pockets to support Vicky&rsquo\;s chosen charities. Having a private audience with the artist is an incredible opportunity and we are inviting the entire business community to come out and support this event.</span></span></span><br />\n&nbsp\;</p>\n\n<p style="color: rgb(50\, 49\, 48)\; font-size: 11pt\; font-family: Calibri\, sans-serif\; margin: 0px\;"><span style="font-size:14px\;"><span style="font-family:tahoma\;"><span lang="en-GB" style="margin: 0px\; padding: 0px\; border: 0px\; font-style: inherit\; font-variant: inherit\; font-weight: inherit\; font-stretch: inherit\; line-height: inherit\; vertical-align: baseline\; color: inherit\;">&ldquo\;Following the event\, we are moving to Garter Lane for the opening night of How To Fall Flat on Your Face by Waterford&rsquo\;s Katie Honan\, another female tour-de-force. Katie&rsquo\;s play focuses on mental health and the enduring strength of women. After missing out on so much over the past two years\, International Women&rsquo\;s Day 2022 is certainly going to be one to remember.&rdquo\;</span></span></span></p>\n\n<p style="color: rgb(50\, 49\, 48)\; font-size: 11pt\; font-family: Calibri\, sans-serif\; margin: 0px\;"><span style="font-size:14px\;"><span style="font-family:tahoma\;"><span lang="en-GB" style="margin: 0px\; padding: 0px\; border: 0px\; font-style: inherit\; font-variant: inherit\; font-weight: inherit\; font-stretch: inherit\; line-height: inherit\; vertical-align: baseline\; color: inherit\;">To register for the Network Waterford event\, please go to&nbsp\;</span><span lang="en-GB" style="margin: 0px\; padding: 0px\; border: 0px\; font-style: inherit\; font-variant: inherit\; font-weight: inherit\; font-stretch: inherit\; line-height: inherit\; vertical-align: baseline\; color: inherit\;"><a data-auth="NotApplicable" data-linkindex="3" href="https://www.eventbrite.ie/e/international-womens-day-networking-reception-tickets-274410809117?aff=ebdssbdestsearch" rel="noopener noreferrer" style="margin: 0px\; padding: 0px\; border: 0px\; font: inherit\; vertical-align: baseline\;" target="_blank">https://www.eventbrite.ie/e/international-womens-day-networking-reception-tickets-274410809117?aff=ebdssbdestsearch</a>&nbsp\;or come along to the Parlour Vintage Tea Rooms between 4pm and 6pm for the public viewing.</span></span></span></p>\n
LOCATION:Parlour Vintage Tea Rooms
UID:e.3615.61
SEQUENCE:3
DTSTAMP:20260423T231837Z
URL:http://crm.waterfordchamber.ie/events/details/vicki-phelan-portrait-61
END:VEVENT

END:VCALENDAR
