BEGIN:VCALENDAR
VERSION:2.0
PRODID:-//ChamberMaster//Event Calendar 2.0//EN
METHOD:PUBLISH
X-PUBLISHED-TTL:P3D
REFRESH-INTERVAL:P3D
CALSCALE:GREGORIAN
BEGIN:VEVENT
DTSTART:20210610T090000Z
DTEND:20210610T100000Z
X-MICROSOFT-CDO-ALLDAYEVENT:FALSE
SUMMARY:Tramore Business Watch
DESCRIPTION:Waterford Chamber and Tramore Garda Station are holding a Business Watch meeting on Thursday\, June 10th at 10am for the business community in Tramore\, as the summer season kicks off. Please join if you have any concerns or issues you would like to bring to the attention of the Gardai\, or get advice and support to help your business.
X-ALT-DESC;FMTTYPE=text/html:<span style="font-family:calibri\,sans-serif\;"><span style="font-size:11.0pt\;">Waterford Chamber and Tramore Garda Station are holding a Business Watch meeting on Thursday\, June 10<sup>th</sup> at 10am for the business community in Tramore\, as the summer season kicks off. Please join if you have any concerns or issues you would like to bring to the attention of the Gardai\, or get advice and support to help your business.</span></span>
LOCATION:Zoom
UID:e.3615.34
SEQUENCE:3
DTSTAMP:20260424T105451Z
URL:http://crm.waterfordchamber.ie/events/details/tramore-business-watch-34
END:VEVENT

END:VCALENDAR
