BEGIN:VCALENDAR
VERSION:2.0
PRODID:-//ChamberMaster//Event Calendar 2.0//EN
METHOD:PUBLISH
X-PUBLISHED-TTL:P3D
REFRESH-INTERVAL:P3D
CALSCALE:GREGORIAN
BEGIN:VEVENT
DTSTART:20260221T090000Z
DTEND:20260221T140000Z
X-MICROSOFT-CDO-ALLDAYEVENT:FALSE
SUMMARY:South East Jobs & Skills Fair 2026
DESCRIPTION:Our South East Jobs & Skills Fair returns again this year in the Granville Hotel on Saturday\, February 21st\, from 9am to 2pm\, with thanks to our sponsors UMPC Whitfield.\n\n \n\nThis event has proved hugely successful over the last number of years with many hires confirmed and it is a great opportunity to meet potential employees and find the right candidate for you.\n\n \n\nWe have the full support of the Department of Social Protection\, Waterford City & County Council\, IDA Ireland and Enterprise Ireland again this year and we will be working with our Regional Chamber colleagues to ensure maximum footfall.\n\n \n\nIn addition\, we will be hosting a sensory hour to promote diversity & inclusion in the workplace\, from 9am to 10am\, to allow for members of our Autistic Community and those with disabilities to speak with employers about potential work placement or job opportunities.\n\n \n\nThe cost to participate is just  300+VAT and we will provide a table for you. If you would like to take part\, please book today as places are limited.
X-ALT-DESC;FMTTYPE=text/html:<strong>Our South East Jobs &amp\; Skills Fair returns again this year in the Granville Hotel on Saturday\, February 21st\, from 9am to 2pm\, with thanks to our sponsors UMPC Whitfield.</strong><br />\n&nbsp\;<br />\nThis event has proved hugely successful over the last number of years with many hires confirmed and it is a great opportunity to meet potential employees and find the right candidate for you.<br />\n&nbsp\;<br />\nWe have the full support of the Department of Social Protection\, Waterford City &amp\; County Council\, IDA Ireland and Enterprise Ireland again this year and we will be working with our Regional Chamber colleagues to ensure maximum footfall.<br />\n&nbsp\;<br />\nIn addition\, we will be hosting a sensory hour to promote diversity &amp\; inclusion in the workplace\, from 9am to 10am\, to allow for members of our Autistic Community and those with disabilities to speak with employers about potential work placement or job opportunities.<br />\n&nbsp\;<br />\nThe cost to participate is just &euro\;300+VAT and we will provide a table for you. If you would like to take part\, please book today as places are limited.
LOCATION:The Granville Hotel\, Waterford
UID:e.3615.176
SEQUENCE:3
DTSTAMP:20260421T192803Z
URL:http://crm.waterfordchamber.ie/events/details/south-east-jobs-skills-fair-2026-176
END:VEVENT

END:VCALENDAR
