BEGIN:VCALENDAR
VERSION:2.0
PRODID:-//ChamberMaster//Event Calendar 2.0//EN
METHOD:PUBLISH
X-PUBLISHED-TTL:P3D
REFRESH-INTERVAL:P3D
CALSCALE:GREGORIAN
BEGIN:VEVENT
DTSTART:20211021T083000Z
DTEND:20211021T091000Z
X-MICROSOFT-CDO-ALLDAYEVENT:FALSE
SUMMARY:Sage 50 Tutorial
DESCRIPTION:Would you like to be more competent at using Sage 50?\n\n \n\nJoin us for a FREE online 'Sage 50 Tutorial'\, delivered by Pimbrook Software\, which can help you become more skillful in using the software. Among the key items we will cover are:\n\n	Customers Credit Management\n	\n		Looking for an easier way to chase debt!\n	\n	\n	Suppliers Module including Remittance Advices\n	\n		Want to reduce the time needed to pay your suppliers\; are you using e-banking and remittance advices?\n	\n	\n	Nominal Ledger Budgets\n	\n		Never more important than now to ensure you are budgeting for your overheads or expenses\n	\n	\n	Monthly Management Accounts\n	\n		All companies need access to monthly management reports. Set these up and click one button at the end of the month for your Management Report\n	\n	\n	Improvements\n	\n		Brexit Reports\n		Bank Feeds\n		Error Corrections\n		User interface makes it much faster to navigate the system       \n		Customisable Toolbars\n		Backup and Data Checking with Schedule Backup Feature
X-ALT-DESC;FMTTYPE=text/html:<strong>Would you like to be more competent at using Sage 50?</strong><br />\n&nbsp\;<br />\n<strong>Join us for a FREE online &lsquo\;Sage 50 Tutorial&rsquo\;\, delivered by Pimbrook Software\, which can help you become more skillful in using the software. Among the key items we will cover are:</strong>\n<ul>\n	<li>Customers Credit Management\n	<ul>\n		<li>Looking for an easier way to chase debt!</li>\n	</ul>\n	</li>\n	<li>Suppliers Module including&nbsp\;Remittance Advices\n	<ul>\n		<li>Want to reduce the time needed to pay your suppliers\; are you using e-banking and remittance advices?</li>\n	</ul>\n	</li>\n	<li>Nominal Ledger Budgets\n	<ul>\n		<li>Never more important than now to ensure you are budgeting for your overheads or expenses</li>\n	</ul>\n	</li>\n	<li>Monthly Management Accounts\n	<ul>\n		<li>All companies need access to monthly management reports.&nbsp\;Set these up and click one button at the end of the month for your Management Report</li>\n	</ul>\n	</li>\n	<li>Improvements\n	<ul>\n		<li>Brexit Reports</li>\n		<li>Bank Feeds</li>\n		<li>Error Corrections</li>\n		<li>User interface makes it much faster to navigate the system&nbsp\;&nbsp\;&nbsp\;&nbsp\;&nbsp\;&nbsp\;&nbsp\;</li>\n		<li>Customisable Toolbars</li>\n		<li>Backup and Data Checking&nbsp\;with Schedule Backup Feature</li>\n	</ul>\n	</li>\n</ul>\n
LOCATION:Online webinar via Zoom
UID:e.3615.40
SEQUENCE:3
DTSTAMP:20260424T061555Z
URL:http://crm.waterfordchamber.ie/events/details/sage-50-tutorial-40
END:VEVENT

END:VCALENDAR
