BEGIN:VCALENDAR
VERSION:2.0
PRODID:-//ChamberMaster//Event Calendar 2.0//EN
METHOD:PUBLISH
X-PUBLISHED-TTL:P3D
REFRESH-INTERVAL:P3D
CALSCALE:GREGORIAN
BEGIN:VEVENT
DTSTART:20220621T110000Z
DTEND:20220621T140000Z
X-MICROSOFT-CDO-ALLDAYEVENT:FALSE
SUMMARY:Regional Leaders Programme Closing Lunch
DESCRIPTION:
X-ALT-DESC;FMTTYPE=text/html:
LOCATION:Faithlegg Hotel\, Co. Waterford
UID:e.3615.50
SEQUENCE:3
DTSTAMP:20260423T163422Z
URL:http://crm.waterfordchamber.ie/events/details/regional-leaders-programme-closing-lunch-50
END:VEVENT

END:VCALENDAR
