BEGIN:VCALENDAR
VERSION:2.0
PRODID:-//ChamberMaster//Event Calendar 2.0//EN
METHOD:PUBLISH
X-PUBLISHED-TTL:P3D
REFRESH-INTERVAL:P3D
CALSCALE:GREGORIAN
BEGIN:VEVENT
DTSTART:20230613T113000Z
DTEND:20230613T133000Z
X-MICROSOFT-CDO-ALLDAYEVENT:FALSE
SUMMARY:Regional Leaders Programme Closing Lunch
DESCRIPTION:Join us as we celebrate with our graduates of the 22/23 Regional Leaders Programme in beautiful Faithlegg\, with guest speaker Josephine Feehily.\n\nThis event is for Regional Leaders Programme participants and mentors only.
X-ALT-DESC;FMTTYPE=text/html:Join us as we celebrate with our graduates of the 22/23 Regional Leaders Programme in beautiful Faithlegg\, with guest speaker Josephine Feehily.<br />\nThis event is for Regional Leaders Programme participants and mentors only.
LOCATION:Faithlegg House Hotel
UID:e.3615.103
SEQUENCE:3
DTSTAMP:20260423T084943Z
URL:http://crm.waterfordchamber.ie/events/details/regional-leaders-programme-closing-lunch-103
END:VEVENT

END:VCALENDAR
