BEGIN:VCALENDAR
VERSION:2.0
PRODID:-//ChamberMaster//Event Calendar 2.0//EN
METHOD:PUBLISH
X-PUBLISHED-TTL:P3D
REFRESH-INTERVAL:P3D
CALSCALE:GREGORIAN
BEGIN:VEVENT
DTSTART:20210609T113000Z
DTEND:20210609T123000Z
X-MICROSOFT-CDO-ALLDAYEVENT:FALSE
SUMMARY:Regional Leaders Programme: CLOSING EVENT
DESCRIPTION:Join us as we come together one last time to celebrate your achievements on the Regional Leaders Programme.
X-ALT-DESC;FMTTYPE=text/html:Join us as we come together one last time to celebrate your achievements on the Regional Leaders Programme.
LOCATION:Zoom
UID:e.3615.33
SEQUENCE:3
DTSTAMP:20260424T105948Z
URL:http://crm.waterfordchamber.ie/events/details/regional-leaders-programme-closing-event-33
END:VEVENT

END:VCALENDAR
