BEGIN:VCALENDAR
VERSION:2.0
PRODID:-//ChamberMaster//Event Calendar 2.0//EN
METHOD:PUBLISH
X-PUBLISHED-TTL:P3D
REFRESH-INTERVAL:P3D
CALSCALE:GREGORIAN
BEGIN:VEVENT
DTSTART:20230420T063000Z
DTEND:20230420T080000Z
X-MICROSOFT-CDO-ALLDAYEVENT:FALSE
SUMMARY:PTSB Getting Down to Business
DESCRIPTION:PTSB presents "Getting Down to Business" - A review of the Hurling Championship & SME Networking Event\n\n\n\nJoin John Mullane\, Ken McGrath\, Bob Gahan and Robbie Leonard as they look forward to another great GAA Senior Hurling Championship Season. Is it time for the men of the D ise to step up and deliver for their loyal fans? Do they have what it takes under the stewardship of Davy Fitz?\n\nWill Limerick continue their recent sustained success? or will Kilkenny come back after a nine year drought? Is it time for Galway or maybe Cork to take the men of Limerick on?\n\n\n\nEnjoy this preview and networking event with Permanent TSB in the Viking Hotel\, Cork Road Waterford  X91 Y657 on Thursday 20th April. Arrival from 7am\, Breakfast at 7.30am  Space is limited\, so book early to avoid disappointment.
X-ALT-DESC;FMTTYPE=text/html:<strong>PTSB presents &quot\;Getting Down to Business&quot\; - A review of the Hurling Championship &amp\; SME Networking Event</strong><br />\n<br />\nJoin John Mullane\, Ken McGrath\, Bob Gahan and Robbie Leonard as they look forward to another great GAA Senior Hurling Championship Season. Is it time for the men of the D&eacute\;ise to step up and deliver for their loyal fans? Do they have what it takes under the stewardship of Davy Fitz?<br />\nWill Limerick continue their recent sustained success? or will Kilkenny come back after a nine year drought? Is it time for Galway or maybe Cork to take the men of Limerick on?<br />\n<br />\nEnjoy this preview and networking event with Permanent TSB in the Viking Hotel\, Cork Road Waterford&nbsp\; X91 Y657 on Thursday 20th April. Arrival from 7am\, Breakfast at 7.30am&nbsp\; Space is limited\, so book early to avoid disappointment.
LOCATION:Viking Hotel\, Cork Road Waterford X91 Y657
UID:e.3615.99
SEQUENCE:3
DTSTAMP:20260421T041324Z
URL:http://crm.waterfordchamber.ie/events/details/ptsb-getting-down-to-business-99
END:VEVENT

END:VCALENDAR
