BEGIN:VCALENDAR
VERSION:2.0
PRODID:-//ChamberMaster//Event Calendar 2.0//EN
METHOD:PUBLISH
X-PUBLISHED-TTL:P3D
REFRESH-INTERVAL:P3D
CALSCALE:GREGORIAN
BEGIN:VEVENT
DTSTART:20210910T113000Z
DTEND:20210910T140000Z
X-MICROSOFT-CDO-ALLDAYEVENT:FALSE
SUMMARY:President's Lunch 2021
DESCRIPTION:THIS EVENT IS NOW SOLD OUT.\n\n\n\nJoin President John McSweeney in celebrating us winning Chamber of the Year at the Chambers Ireland Awards\, as he hosts this year's President's Lunch at The Strand Inn\, Dunmore East on Friday\, 10th September at 12.30pm with thanks to event sponsors AIB Bank.\n\n\n\nBegin the afternoon overlooking the magnificent scenery with a fabulous 'Waterford' drinks reception with thanks to Blackwater Distillery\, Metalman Brewing and Legacy Irish Cider. Follow this with a sumptuous meal before we meet our special guests. \n\n\n\nIn line with Government guidelines\, tickets can be purchased individually or in tables of six. Cost  65pp.
X-ALT-DESC;FMTTYPE=text/html:<p><br />\n<strong><span style="font-size:18px\;"><span style="color:#FF0000\;">THIS EVENT IS NOW SOLD OUT.</span></span><br />\n<br />\nJoin President John McSweeney in celebrating us winning Chamber of the Year at the Chambers Ireland Awards\, as he hosts this year&rsquo\;s President&rsquo\;s Lunch at The Strand Inn\, Dunmore East&nbsp\;on Friday\, 10th September&nbsp\;at 12.30pm with thanks to event sponsors AIB Bank.</strong><br />\n<br />\nBegin the afternoon overlooking the magnificent scenery with a fabulous &#39\;Waterford&#39\; drinks reception with thanks to Blackwater Distillery\, Metalman Brewing and Legacy Irish Cider. Follow this with&nbsp\;a sumptuous&nbsp\;meal before we meet our special guests.&nbsp\;<br />\n<br />\nIn line with Government guidelines\, tickets can be purchased individually or in tables of six. Cost &euro\;65pp.</p>\n
LOCATION:The Strand Inn\, Dunmore East.
UID:e.3615.38
SEQUENCE:3
DTSTAMP:20260424T072606Z
URL:http://crm.waterfordchamber.ie/events/details/president-s-lunch-2021-38
END:VEVENT

END:VCALENDAR
