BEGIN:VCALENDAR
VERSION:2.0
PRODID:-//ChamberMaster//Event Calendar 2.0//EN
METHOD:PUBLISH
X-PUBLISHED-TTL:P3D
REFRESH-INTERVAL:P3D
CALSCALE:GREGORIAN
BEGIN:VEVENT
DTSTART:20221018T183000Z
DTEND:20221020T193000Z
X-MICROSOFT-CDO-ALLDAYEVENT:FALSE
SUMMARY:Portalis Cultural Tourism Workshops
DESCRIPTION:Portalis\, an EU funded transdisciplinary project that explores the first connection between Ireland and Wales dating back to the Mesolithic period\, is inviting members of the public to attend a series of workshops taking place in six unique coastal communities in Ireland and Wales.\n\n\n\nThe cross-border local engagement events will look to introduce the Portalis project and explore how elements of the project can be used to develop cultural tourism in the coastal communities and their surrounding areas. \n\n\n\nThe communities involved are Dunmore East\, The Hook Peninsula\, and the Waterford Estuary and surrounding coastal villages in Ireland\; and Tan-y-Bwlch\, The Aeron Valley and Llangrannog in Ceredigion\, Wales. \n\n\n\nIn Ireland\, the series will kick off in Dunmore East at 7.30pm\, on 18 October at the Fisherman's Hall. This will be followed by Faithlegg at 7.30pm\, on 20 October at Park Rangers Football Club. An additional two events will be announced for Wexford to take place in October. Refreshments will be provided. \n\n\n\nTo register for your free place at the events\, please go to http://portalisproject.eu/portalis-events/
X-ALT-DESC;FMTTYPE=text/html:<strong>Portalis\, an EU funded transdisciplinary project that explores the first connection between Ireland and Wales dating back to the Mesolithic period\, is inviting members of the public to attend a series of workshops taking place in six unique coastal communities in Ireland and Wales.</strong><br />\n<br />\nThe cross-border local engagement events will look to introduce the Portalis project and explore how elements of the project can be used to develop cultural tourism in the coastal communities and their surrounding areas.&nbsp\;<br />\n<br />\nThe communities involved are Dunmore East\, The Hook Peninsula\, and the Waterford Estuary and surrounding coastal villages in Ireland\; and Tan-y-Bwlch\, The Aeron Valley and Llangrannog in Ceredigion\, Wales.&nbsp\;<br />\n<br />\n<strong>In Ireland\, the series will kick off in Dunmore East at 7.30pm\, on 18 October at the Fisherman&rsquo\;s Hall. This will be followed by Faithlegg at 7.30pm\, on 20 October at Park Rangers Football Club. An additional two events will be announced for Wexford to take place in October. Refreshments will be provided.&nbsp\;</strong><br />\n<br />\n<strong>To register for your free place at the events\, please go to <a href="http://portalisproject.eu/portalis-events/" target="_blank">http://portalisproject.eu/portalis-events/</a></strong>
LOCATION:Tuesday\, 18 October at the Fisherman's Hall\, Dunmore East Thursday\, 20 October at Park Rangers Football Club\, Faithlegg
UID:e.3615.87
SEQUENCE:3
DTSTAMP:20260421T140819Z
URL:http://crm.waterfordchamber.ie/events/details/portalis-cultural-tourism-workshops-87
END:VEVENT

END:VCALENDAR
