BEGIN:VCALENDAR
VERSION:2.0
PRODID:-//ChamberMaster//Event Calendar 2.0//EN
METHOD:PUBLISH
X-PUBLISHED-TTL:P3D
REFRESH-INTERVAL:P3D
CALSCALE:GREGORIAN
BEGIN:VEVENT
DTSTART:20220628T090000Z
DTEND:20220628T100000Z
X-MICROSOFT-CDO-ALLDAYEVENT:FALSE
SUMMARY:New Member Meetup
DESCRIPTION:Learn how to maximise your membership and meet fellow new members for two sessions of speed networking.
X-ALT-DESC;FMTTYPE=text/html:Learn how to maximise your membership and meet fellow new members for two sessions of speed networking.
LOCATION:Online Meeting
UID:e.3615.77
SEQUENCE:3
DTSTAMP:20260423T151230Z
URL:http://crm.waterfordchamber.ie/events/details/new-member-meetup-77
END:VEVENT

END:VCALENDAR
