BEGIN:VCALENDAR
VERSION:2.0
PRODID:-//ChamberMaster//Event Calendar 2.0//EN
METHOD:PUBLISH
X-PUBLISHED-TTL:P3D
REFRESH-INTERVAL:P3D
CALSCALE:GREGORIAN
BEGIN:VEVENT
DTSTART:20220215T160000Z
DTEND:20220215T170000Z
X-MICROSOFT-CDO-ALLDAYEVENT:FALSE
SUMMARY:Maximise Your Membership
DESCRIPTION:Join Waterford Chamber's 'Maximise Your Membership' virtual workshop to learn how to maximise your membership through our many promotional channels\, networking opportunities and events\, among other opportunities.\n\n \n\nThis session will offer members the opportunity to learn how to make the most of your membership at a time when sharing information\, being informed and staying connected has never been more important. In this session\, we outline practical tips on how to access the wider Chamber membership base\, maximise your visibility and obtain free promotion for your business.\n\n\n\nThis virtual session is open to anyone within your organisation\, to both new and long standing members who would like a refresher on how to best utilise the Chamber platforms to continue to promote your brand\, stay connected and be informed.\n\n\n\nDuring this workshop\, members will have the opportunity to network and chat with fellow businesses across your Chamber network during interval speed networking sessions.
X-ALT-DESC;FMTTYPE=text/html:<p><br />\n<strong>Join Waterford&nbsp\;Chamber&rsquo\;s &#39\;Maximise Your Membership&#39\;&nbsp\;virtual&nbsp\;workshop&nbsp\;to learn how to maximise your membership through our many promotional channels\, networking opportunities and events\, among other opportunities.</strong><br />\n&nbsp\;<br />\nThis session will offer members the opportunity to learn how to make the most of your membership at a time when sharing information\, being informed and staying connected has never been more important. In this session\, we outline practical tips on how to access the wider Chamber membership base\, maximise your visibility and obtain free promotion for your business.<br />\n<br />\nThis virtual session is open to anyone within your organisation\, to both new and long standing members who would like a refresher on how to best utilise the Chamber platforms to continue to promote your brand\, stay connected and be informed.<br />\n<br />\nDuring this workshop\, members will have the opportunity to network and chat with fellow businesses across your Chamber network during interval speed networking sessions.</p>\n
LOCATION:Zoom
UID:e.3615.44
SEQUENCE:3
DTSTAMP:20260424T002533Z
URL:http://crm.waterfordchamber.ie/events/details/maximise-your-membership-44
END:VEVENT

END:VCALENDAR
