BEGIN:VCALENDAR
VERSION:2.0
PRODID:-//ChamberMaster//Event Calendar 2.0//EN
METHOD:PUBLISH
X-PUBLISHED-TTL:P3D
REFRESH-INTERVAL:P3D
CALSCALE:GREGORIAN
BEGIN:VEVENT
DTSTART:20221019T131500Z
DTEND:20221019T153000Z
X-MICROSOFT-CDO-ALLDAYEVENT:FALSE
SUMMARY:Introduction to Energy Management: Creating an Energy Action Plan
DESCRIPTION:This training is hosted by the Sustainable Energy Authority of Ireland for Irish SMEs who wish to create an energy action plan.\n\n\n\nAbout this event\n\nOver the coming years\, Ireland must use less energy\, move to clean energy\, and innovate to create new solutions to meet energy demands. Creating an energy action plan is a great first step for any business that wishes to implement energy management practices and become more resilient to rising energy costs.\n\n\n\nThis workshop-based training is hosted by Conor Molloy\, one of Ireland's leading energy experts. Conor will take you through the six steps to creating an energy action plan.\n\n\n\nLearn how to\;\n\n	Create the business case for energy management\n	Assign an Energy Coordinator\n	Write your energy statement\n	Track your energy consumption through bills and meter readings\n	Identify potential areas to save energy\n	Create your energy action plan\n\nWho should attend?\n\nThis workshop is suitable for those in your business that can influence change (owners and/or managers)\n\nAttendees must be able to attend two 1-hour workshops. For this training both workshops will be held the afternoon of 19th October.\n\nAttendees should have access to 12 months' worth of energy bills (electricity\, gas\, and/or oil) to start monitoring energy use.\n\n\n\nDate and Time: 19th October 2022\n\n\n\nSession 1: 2:15pm   3:15pm\n\n15 min break\n\nSession 2: 3:30pm   4:30pm\n\nNote: This training is not open to industry professionals or consultants at this time.\n\n\n\nRegister at https://www.eventbrite.ie/e/introduction-to-energy-management-creating-an-energy-action-plan-registration-367516199847
X-ALT-DESC;FMTTYPE=text/html:<strong>This training is hosted by the Sustainable Energy Authority of Ireland for Irish SMEs who wish to create an energy action plan.</strong><br />\n<br />\n<strong>About this event</strong><br />\nOver the coming years\, Ireland must use less energy\, move to clean energy\, and innovate to create new solutions to meet energy demands. Creating an energy action plan is a great first step for any business that wishes to implement energy management practices and become more resilient to rising energy costs.<br />\n<br />\nThis workshop-based training is hosted by Conor Molloy\, one of Ireland&#39\;s leading energy experts. Conor will take you through the six steps to creating an energy action plan.<br />\n<br />\n<strong>Learn how to\;</strong>\n<ul>\n	<li>Create the business case for energy management</li>\n	<li>Assign an Energy Coordinator</li>\n	<li>Write your energy statement</li>\n	<li>Track your energy consumption through bills and meter readings</li>\n	<li>Identify potential areas to save energy</li>\n	<li>Create your energy action plan</li>\n</ul>\n<strong>Who should attend?</strong><br />\nThis workshop is suitable for those in your business that can influence change (owners and/or managers)<br />\nAttendees must be able to attend two 1-hour workshops. For this training both workshops will be held the afternoon of 19th October.<br />\nAttendees should have access to 12 months&#39\; worth of energy bills (electricity\, gas\, and/or oil) to start monitoring energy use.<br />\n<br />\nDate and Time: 19th October 2022<br />\n<br />\nSession 1: 2:15pm &ndash\; 3:15pm<br />\n15 min break<br />\nSession 2: 3:30pm &ndash\; 4:30pm<br />\nNote: This training is not open to industry professionals or consultants at this time.<br />\n<br />\n<strong>Register at&nbsp\;<a href="https://www.eventbrite.ie/e/introduction-to-energy-management-creating-an-energy-action-plan-registration-367516199847" target="_blank">https://www.eventbrite.ie/e/introduction-to-energy-management-creating-an-energy-action-plan-registration-367516199847</a></strong>
LOCATION:
UID:e.3615.66
SEQUENCE:3
DTSTAMP:20260421T140512Z
URL:http://crm.waterfordchamber.ie/events/details/introduction-to-energy-management-creating-an-energy-action-plan-66
END:VEVENT

END:VCALENDAR
