BEGIN:VCALENDAR
VERSION:2.0
PRODID:-//ChamberMaster//Event Calendar 2.0//EN
METHOD:PUBLISH
X-PUBLISHED-TTL:P3D
REFRESH-INTERVAL:P3D
CALSCALE:GREGORIAN
BEGIN:VEVENT
DTSTART:20230308T090000Z
DTEND:20230308T110000Z
X-MICROSOFT-CDO-ALLDAYEVENT:FALSE
SUMMARY:International Women's Day Networking Breakfast 2023
DESCRIPTION:THIS EVENT IS NOW SOLD OUT\n\n\n\nWaterford Chamber is joining with Waterford Local Enterprise Office and the Waterford News & Star for a networking breakfast to celebrate International Women's Day on March 8th in the Viking Hotel Waterford.\n\n\n\nCome along and enjoy a delicious breakfast\, network with your peers and hear from our inspiring panel of women\, including Amy Brennan\, new Site Lead at Sanofi\; Gwen Daniels\, UPMC\; Joanne Geary\, Managing Director of myhome.ie\; and celebrity chef Eunice Power\, among others.\n\n\n\nThe event runs from 9am to 11am and tickets are just  30.
X-ALT-DESC;FMTTYPE=text/html:<strong><u><span style="color:#FF0000\;">THIS EVENT IS NOW SOLD OUT</span></u><br />\n<br />\nWaterford Chamber is joining with Waterford Local Enterprise Office and the Waterford News &amp\; Star for a networking breakfast to celebrate International Women&rsquo\;s Day on March 8th in the Viking Hotel Waterford.</strong><br />\n<br />\nCome along and enjoy a delicious breakfast\, network with your peers and hear from our inspiring panel of women\, including Amy Brennan\, new Site Lead at Sanofi\; Gwen Daniels\, UPMC\;&nbsp\;Joanne Geary\, Managing Director of myhome.ie\;&nbsp\;and celebrity chef Eunice Power\, among others.<br />\n<br />\nThe event runs from 9am to 11am and tickets are just &euro\;30.
LOCATION:Viking Hotel\, Cork Road\, Waterford
UID:e.3615.94
SEQUENCE:3
DTSTAMP:20260421T041430Z
URL:http://crm.waterfordchamber.ie/events/details/international-women-s-day-networking-breakfast-2023-94
END:VEVENT

END:VCALENDAR
