BEGIN:VCALENDAR
VERSION:2.0
PRODID:-//ChamberMaster//Event Calendar 2.0//EN
METHOD:PUBLISH
X-PUBLISHED-TTL:P3D
REFRESH-INTERVAL:P3D
CALSCALE:GREGORIAN
BEGIN:VEVENT
DTSTART:20260708T120000Z
DTEND:20260708T180000Z
X-MICROSOFT-CDO-ALLDAYEVENT:FALSE
SUMMARY:Golf Classic 2026
DESCRIPTION:This year's Annual Golf Classic\, sponsored by EY\, will take place at Faithlegg Golf Club on Wednesday\, 8th July 2026 with a shotgun start at 1.00pm.\n\n\n\nPrizes for 1st\, 2nd\, 3rd\, nearest the pin and longest drive\, with thanks to House of Waterford. Book a team or sponsor a tee sign. A great day out to treat your team or thank clients\, book today!
X-ALT-DESC;FMTTYPE=text/html:This year&#39\;s Annual Golf Classic\, sponsored by EY\, will take place at Faithlegg Golf Club on Wednesday\, 8th July 2026 with a shotgun start at 1.00pm.<br />\n<br />\nPrizes for 1st\, 2nd\, 3rd\, nearest the pin and longest drive\, with thanks to House of Waterford. Book a team or sponsor a tee sign. A great day out to treat your team or thank clients\, book today!&nbsp\;
LOCATION:Faithlegg
UID:e.3615.180
SEQUENCE:3
DTSTAMP:20260419T223519Z
URL:http://crm.waterfordchamber.ie/events/details/golf-classic-2026-180
END:VEVENT

END:VCALENDAR
