BEGIN:VCALENDAR
VERSION:2.0
PRODID:-//ChamberMaster//Event Calendar 2.0//EN
METHOD:PUBLISH
X-PUBLISHED-TTL:P3D
REFRESH-INTERVAL:P3D
CALSCALE:GREGORIAN
BEGIN:VEVENT
DTSTART:20220715T130000Z
DTEND:20220715T170000Z
X-MICROSOFT-CDO-ALLDAYEVENT:FALSE
SUMMARY:Golf Classic 2022
DESCRIPTION:This year's Annual Golf Classic\, sponsored by EY\, will take place at Faithlegg Golf Club on Friday\, 15th July. Prizes for 1st\, 2nd\, 3rd\, nearest the pin and longest drive\, with thanks to House of Waterford Crystal. Book a team or sponsor a tee sign. A great day out to treat your team or thank clients\, book today!
X-ALT-DESC;FMTTYPE=text/html:This year&#39\;s Annual Golf Classic\, sponsored by EY\, will take place at Faithlegg Golf Club on Friday\, 15th July. Prizes for 1st\, 2nd\, 3rd\, nearest the pin and longest drive\, with thanks to House of Waterford Crystal. Book a team or sponsor a tee sign. A great day out to treat your team or thank clients\, book today!&nbsp\;
LOCATION:350 ex. VAT per team 100 for tee sign sponsorship
UID:e.3615.74
SEQUENCE:3
DTSTAMP:20260423T134446Z
URL:http://crm.waterfordchamber.ie/events/details/golf-classic-2022-74
END:VEVENT

END:VCALENDAR
