BEGIN:VCALENDAR
VERSION:2.0
PRODID:-//ChamberMaster//Event Calendar 2.0//EN
METHOD:PUBLISH
X-PUBLISHED-TTL:P3D
REFRESH-INTERVAL:P3D
CALSCALE:GREGORIAN
BEGIN:VEVENT
DTSTART:20220929T163000Z
DTEND:20220929T180000Z
X-MICROSOFT-CDO-ALLDAYEVENT:FALSE
SUMMARY:Corporate Evening at The Reg
DESCRIPTION:Join us for an evening of tipples and treats at one of Waterford's favourite venues The Reg on Thursday\, September 29th at 5.30pm.\n\n\n\nIn the heart of the Viking Triangle and overlooking the historic Reginald's Tower\, come along and explore the six bars and dining areas which are ideal for hosting corporate events\, team building sessions or a night out with family and friends.\n\n\n\nIt promises to be a wonderful evening connecting the business community post Covid and the summer months.
X-ALT-DESC;FMTTYPE=text/html:<strong>Join us for an evening of tipples and treats at one of Waterford&rsquo\;s favourite venues The Reg on Thursday\, September 29th at 5.30pm.</strong><br />\n<br />\nIn the heart of the Viking Triangle and overlooking the historic Reginald&rsquo\;s Tower\, come along and explore the six bars and dining areas which are ideal for hosting corporate events\, team building sessions or a night out with family and friends.<br />\n<br />\nIt promises to be a wonderful evening connecting the business community post Covid and the summer months.
LOCATION:
UID:e.3615.81
SEQUENCE:3
DTSTAMP:20260421T124438Z
URL:http://crm.waterfordchamber.ie/events/details/corporate-evening-at-the-reg-81
END:VEVENT

END:VCALENDAR
