BEGIN:VCALENDAR
VERSION:2.0
PRODID:-//ChamberMaster//Event Calendar 2.0//EN
METHOD:PUBLISH
X-PUBLISHED-TTL:P3D
REFRESH-INTERVAL:P3D
CALSCALE:GREGORIAN
BEGIN:VEVENT
DTSTART:20230331T140000Z
DTEND:20230331T160000Z
X-MICROSOFT-CDO-ALLDAYEVENT:FALSE
SUMMARY:City of Opportunity
DESCRIPTION:Waterford City & County Council and Waterford Chamber have collaborated with SETU to explore the scope of opportunities for Waterford City Centre\, by engaging RIKON and EY to carry out research and feasibility studies respectively.\n\n\n\nWith the opportunities outlined in the data\, we now want to bring together Waterford's business community to showcase the findings and also to hear your views on how we can move forward and maximise the potential.\n\n\n\n3.00pm: Welcome by Paul Nolan\, Waterford Chamber President\n\n3.10am: Waterford   A City of Opportunity by Michael Walsh\, Chief Executive\, Waterford City & County Council\n\n3.20pm: Kathryn Kiely   Impact of SETU Waterford Campus\n\n3.30pm: Dr Pat Lynch/Economist\, RIKON   showcasing the data\n\n3.50pm: David McNamara\, EY   Waterford as a University City: The opportunity to create a vibrant city centre\n\n4.10pm: Jim Power\, Economist   Exploring the data and opportunities\n\n4.20pm: Panel discussion moderated by Jim Power with Michael Walsh\, Pat Lynch and David McNamara and Paul Nolan   Maximising the potential and what's next\n\n4.45pm: Q & A\n\n5.00pm: Close
X-ALT-DESC;FMTTYPE=text/html:<strong>Waterford City &amp\; County Council and Waterford Chamber have collaborated with SETU to explore the scope of opportunities for Waterford City Centre\, by engaging RIKON and EY to carry out research and feasibility studies respectively.</strong><br />\n<br />\nWith the opportunities outlined in the data\, we now want to bring together Waterford&rsquo\;s business community to showcase the findings and also to hear your views on how we can move forward and maximise the potential.<br />\n<br />\n3.00pm: Welcome by Paul Nolan\, Waterford Chamber President<br />\n3.10am: Waterford &ndash\; A City of Opportunity by Michael Walsh\, Chief Executive\, Waterford City &amp\; County Council<br />\n3.20pm: Kathryn Kiely &ndash\; Impact of SETU Waterford Campus<br />\n3.30pm: Dr Pat Lynch/Economist\, RIKON &ndash\; showcasing the data<br />\n3.50pm: David McNamara\, EY &ndash\; Waterford as a University City: The opportunity to create a vibrant city centre<br />\n4.10pm: Jim Power\, Economist &ndash\; Exploring the data and opportunities<br />\n4.20pm: Panel discussion moderated by Jim Power with Michael Walsh\, Pat Lynch and David McNamara and Paul Nolan &ndash\; Maximising the potential and what&rsquo\;s next<br />\n4.45pm: Q &amp\; A<br />\n5.00pm: Close
LOCATION:
UID:e.3615.98
SEQUENCE:3
DTSTAMP:20260421T065319Z
URL:http://crm.waterfordchamber.ie/events/details/city-of-opportunity-98
END:VEVENT

END:VCALENDAR
