BEGIN:VCALENDAR
VERSION:2.0
PRODID:-//ChamberMaster//Event Calendar 2.0//EN
METHOD:PUBLISH
X-PUBLISHED-TTL:P3D
REFRESH-INTERVAL:P3D
CALSCALE:GREGORIAN
BEGIN:VEVENT
DTSTART:20221004T120000Z
DTEND:20221004T130000Z
X-MICROSOFT-CDO-ALLDAYEVENT:FALSE
SUMMARY:Career Guidance Seminar for Parents
DESCRIPTION:Is your child considering a career in Science\, Technology\, Engineering\, Arts or Maths? Would you like to get a better understanding of what the opportunities are out there for your child? Then\, you are invited to join our Careers Seminar for Parents as part of Toys4Engineers Week\, on Tuesday\, October 4th from 1pm to 2pm. \n\n\n\nOur panel of speakers will take you through the various routes to a successful career\, be it third level education or apprenticeships in engineering\, technology and construction. This event is free to attend and there will be an opportunity to interact with the panel and get the information you need.\n\n\n\n1.00pm   Welcome by Kevin Doolin\, Chamber Vice President\n\n1.05pm   Eoin Gill\, CALMAST \n\n1.20pm   Ronan O'Brien\, Construction Industry Federation\n\n1.30pm   Stephen Rooney\, Engineering the South East\n\n1.40pm   Q&A for parents\n\n2.00pm   Close
X-ALT-DESC;FMTTYPE=text/html:<strong>Is your child considering a career in Science\, Technology\, Engineering\, Arts or Maths? Would you like to get a better understanding of what the opportunities are out there for your child? Then\, you are invited to join our Careers Seminar for Parents as part of Toys4Engineers Week\, on Tuesday\, October 4th from 1pm to 2pm. </strong><br />\n<br />\nOur panel of speakers will take you through the various routes to a successful career\, be it third level education or apprenticeships in engineering\, technology and construction. This event is free to attend and there will be an opportunity to interact with the panel and get the information you need.<br />\n<br />\n1.00pm &ndash\; Welcome by Kevin Doolin\, Chamber Vice President<br />\n1.05pm &ndash\; Eoin Gill\, CALMAST&nbsp\;<br />\n1.20pm &ndash\; Ronan O&rsquo\;Brien\, Construction Industry Federation<br />\n1.30pm &ndash\; Stephen Rooney\, Engineering the South East<br />\n1.40pm &ndash\; Q&amp\;A for parents<br />\n2.00pm &ndash\; Close
LOCATION:Zoom
UID:e.3615.83
SEQUENCE:3
DTSTAMP:20260421T111330Z
URL:http://crm.waterfordchamber.ie/events/details/career-guidance-seminar-for-parents-83
END:VEVENT

END:VCALENDAR
