BEGIN:VCALENDAR
VERSION:2.0
PRODID:-//ChamberMaster//Event Calendar 2.0//EN
METHOD:PUBLISH
X-PUBLISHED-TTL:P3D
REFRESH-INTERVAL:P3D
CALSCALE:GREGORIAN
BEGIN:VEVENT
DTSTART:20230427T150000Z
DTEND:20230427T180000Z
X-MICROSOFT-CDO-ALLDAYEVENT:FALSE
SUMMARY:Business Expo 2023
DESCRIPTION:Everyone's favourite 'Ultimate Business After Hours' Business Expo event is back and will take place on Thursday\, April 27th at George Corbett Motors on the Cork Road and will bring together over 100 Waterford Chamber members with the main objective to network\, generate sales leads and do business.\n\n \n\nWe have a fantastic early bird rate of  150+VAT available until Friday\, March 17th so book early to grab your discount. Cost post March 17th is  200+VAT.\n\n \n\nA full exhibitors list will be released two weeks in advance so you can make the most of the Expo experience.\n\n \n\nPrivate meeting rooms are also available and appointments can be scheduled in advance should you require these facilities.\n\n \n\nThere is a limited number of exhibition stands available and these will be offered on a first-come\, first-served basis. Exhibitors will be allocated enough space for two standard pop-ups and a pod table.\n\n \n\nWLR will be broadcasting live\, there'll be plenty to eat and drink\, we will have plenty of surprises\, giveaways and spot prizes along the way.\n\n \n\nSpecial thanks to Waterford Local Enterprise Office for sponsoring this event.
X-ALT-DESC;FMTTYPE=text/html:<strong>Everyone&rsquo\;s favourite &lsquo\;Ultimate Business After Hours&rsquo\; Business Expo event is back and will take place on Thursday\, April 27th at George Corbett Motors on the Cork Road and will bring together over 100 Waterford Chamber members with the main objective to network\, generate sales leads and do business.</strong><br />\n&nbsp\;<br />\nWe have a fantastic <strong>early bird rate</strong> of &euro\;150+VAT available until Friday\, March 17th so book early to grab your discount. Cost post March 17th is &euro\;200+VAT.<br />\n&nbsp\;<br />\nA full exhibitors list will be released two weeks in advance so you can make the most of the Expo experience.<br />\n&nbsp\;<br />\nPrivate meeting rooms are also available and appointments can be scheduled in advance should you require these facilities.<br />\n&nbsp\;<br />\nThere is a limited number of exhibition stands available and these will be offered on a first-come\, first-served basis. Exhibitors will be allocated enough space for two standard pop-ups and a pod table.<br />\n&nbsp\;<br />\nWLR will be broadcasting live\, there&rsquo\;ll be plenty to eat and drink\, we will have plenty of surprises\, giveaways and spot prizes along the way.<br />\n&nbsp\;<br />\nSpecial thanks to Waterford Local Enterprise Office for sponsoring this event.
LOCATION:George Corbett Motors\, Cork Road\, Waterford
UID:e.3615.93
SEQUENCE:3
DTSTAMP:20260421T030014Z
URL:http://crm.waterfordchamber.ie/events/details/business-expo-2023-93
END:VEVENT

END:VCALENDAR
