BEGIN:VCALENDAR
VERSION:2.0
PRODID:-//ChamberMaster//Event Calendar 2.0//EN
METHOD:PUBLISH
X-PUBLISHED-TTL:P3D
REFRESH-INTERVAL:P3D
CALSCALE:GREGORIAN
BEGIN:VEVENT
DTSTART:20260122T173000Z
DTEND:20260122T190000Z
X-MICROSOFT-CDO-ALLDAYEVENT:FALSE
SUMMARY:Business After Hours at Viking Hotel
DESCRIPTION:Join us for a Business After Hours at the newly awarded 4 Star Viking Hotel Waterford taking place on Thursday\, 22nd January at 5:30pm. \n\n\n\nWaterford Chamber is delighted to invite members and guests to our upcoming Business After Hours hosted by the newly classified 4 Star Viking Hotel Waterford. This special networking event celebrates a major milestone for the hotel\, which recently received its official 4 Star designation from F ilte Ireland. Recognition of its continued investment\, transformation and unwavering commitment to exceptional hospitality.\n\n\n\nUnder the management of PREM Hospitality\, one of Ireland's leading hotel management companies\, The Viking Hotel has undergone significant enhancement supported by the Kelly family. Guests will have the opportunity to experience the hotel's beautifully redesigned bedrooms\, upgraded conference facilities\, and stylish contemporary spaces first hand.\n\n\n\nBeyond its impressive renovation\, The Viking Hotel is renowned for its warm\, personal and attentive service\; a standard upheld by a dedicated team who consistently go the extra mile. The hotel's recent F ilte Ireland Employer Excellence recognition and Great Place to Work certification further highlights a positive workplace culture that directly enriches the guest experience and contributed to achieving its 4 Star status.\n\n\n\nJoin us for an evening of connection\, celebration and hospitality at its finest. This is a fantastic opportunity to network with fellow professionals and explore one of Waterford's newly elevated hospitality venues.
X-ALT-DESC;FMTTYPE=text/html:<strong>Join us for a Business After Hours at the newly awarded 4 Star Viking Hotel Waterford taking place on Thursday\, 22nd January at 5:30pm.&nbsp\;</strong><br />\n<br />\nWaterford Chamber is delighted to invite members and guests to our upcoming Business After Hours&nbsp\;hosted by the newly classified 4 Star Viking Hotel Waterford. This special networking event celebrates a major milestone for the hotel\, which recently received its official 4 Star designation from F&aacute\;ilte Ireland. Recognition of its continued investment\, transformation and unwavering commitment to exceptional hospitality.<br />\n<br />\nUnder the management of PREM Hospitality\, one of Ireland&rsquo\;s leading hotel management companies\, The Viking Hotel has undergone significant enhancement supported by the Kelly family. Guests will have the opportunity to experience the hotel&rsquo\;s beautifully redesigned bedrooms\, upgraded conference facilities\, and stylish contemporary spaces first hand.<br />\n<br />\nBeyond its impressive renovation\, The Viking Hotel is renowned for its warm\, personal and attentive service\; a standard upheld by a dedicated team who consistently go the extra mile. The hotel&rsquo\;s recent <em>F&aacute\;ilte Ireland Employer Excellence</em>&nbsp\;recognition and <em>Great Place to Work</em>&nbsp\;certification further highlights a positive workplace culture that directly enriches the guest experience and contributed to achieving its 4 Star status.<br />\n<br />\nJoin us for an evening of connection\, celebration and hospitality at its finest. This is a fantastic opportunity to network with fellow professionals and explore one of Waterford&rsquo\;s newly elevated hospitality venues.
LOCATION:
UID:e.3615.179
SEQUENCE:3
DTSTAMP:20260421T170102Z
URL:http://crm.waterfordchamber.ie/events/details/business-after-hours-at-viking-hotel-179
END:VEVENT

END:VCALENDAR
