BEGIN:VCALENDAR
VERSION:2.0
PRODID:-//ChamberMaster//Event Calendar 2.0//EN
METHOD:PUBLISH
X-PUBLISHED-TTL:P3D
REFRESH-INTERVAL:P3D
CALSCALE:GREGORIAN
BEGIN:VEVENT
DTSTART:20250605T163000Z
DTEND:20250605T180000Z
X-MICROSOFT-CDO-ALLDAYEVENT:FALSE
SUMMARY:Business After Hours at Smart Move Properties
DESCRIPTION:We look forward to welcoming you to our next Business After Hours on Thursday\, 5th June at 5.30pm at Smart Move Properties (The Quay\, Waterford) as they celebrate seven years in business. \n\n\n\nMake the Smart Move and don't forget to bring your business cards to be in with a chance to win some great prizes. This event is open to Chamber members and non-members\, so please feel free to bring a friend.\n\n\n\nAbout Smart Move Properties\n\nBack in 2018\, Fiona & Andrea\, each with in excess of 20 years' experience in the property market\, joined forces and started Smart Move Properties and have never looked back since. From small beginnings on the Lower Yellow Road\, the business grew over the years\; so did the staff\, with the business eventually outgrowing the Yellow Road office and in 2023 moved to the ground floor office in Cretzen House on The Quay.\n\n\n\nSmart Move Properties is a fully PSRA Licensed company with four licenced property service providers. Our approach to property is tailored to each client's needs and we endeavour to provide a prompt and efficient service acting in the best interest of our clients\, whether selling\, renting\, or managing properties.
X-ALT-DESC;FMTTYPE=text/html:<strong>We look forward to welcoming you to our next Business After Hours on Thursday\, 5th June at 5.30pm at Smart Move Properties (The Quay\, Waterford) as they celebrate seven years in business.&nbsp\;</strong><br />\n<br />\nMake the Smart Move and don&#39\;t forget to bring your business cards to be in with a chance to win some great prizes. This event is open to Chamber members and non-members\, so please feel free to bring a friend.<br />\n<br />\n<strong>About Smart Move Properties</strong><br />\nBack in 2018\, Fiona &amp\; Andrea\, each with in excess of 20 years&rsquo\; experience in the property market\, joined forces and started Smart Move Properties and have never looked back since. From small beginnings on the Lower Yellow Road\, the business grew over the years\; so did the staff\, with the business eventually outgrowing the Yellow Road office and in 2023 moved to the ground floor office in Cretzen House on The Quay.<br />\n<br />\nSmart Move Properties is a fully PSRA Licensed company with four licenced property service providers. Our approach to property is tailored to each client&#39\;s needs and we endeavour to provide a prompt and efficient service acting in the best interest of our clients\, whether selling\, renting\, or managing properties.
LOCATION:
UID:e.3615.159
SEQUENCE:3
DTSTAMP:20260419T202204Z
URL:http://crm.waterfordchamber.ie/events/details/business-after-hours-at-smart-move-properties-159
END:VEVENT

END:VCALENDAR
