BEGIN:VCALENDAR
VERSION:2.0
PRODID:-//ChamberMaster//Event Calendar 2.0//EN
METHOD:PUBLISH
X-PUBLISHED-TTL:P3D
REFRESH-INTERVAL:P3D
CALSCALE:GREGORIAN
BEGIN:VEVENT
DTSTART:20220608T163000Z
DTEND:20220608T180000Z
X-MICROSOFT-CDO-ALLDAYEVENT:FALSE
SUMMARY:Business After Hours at RE/MAX
DESCRIPTION:Celebrating 30 years in business\, John and Margaret Fogarty\, along with their fabulous team\, are delighted to welcome Waterford Chamber members to their new state-of-the-art property showrooms on the Ardkeen Roundabout for our June Business After Hours. \n\n\n\nRE/MAX Team Fogarty have constantly achieved record property prices in Waterford City and County\, under the RE/MAX brand\, which has offices in over 120 countries around the world.\n\n\n\nThe team at RE/MAX Team Fogarty will introduce us to mortgagebuddy.ie\, their online\, independent mortgage brokerage\, while there will also be plenty of treats and prizes to be won.
X-ALT-DESC;FMTTYPE=text/html:Celebrating 30 years in business\, John and Margaret Fogarty\, along with their fabulous team\, are delighted to welcome Waterford Chamber members to their new state-of-the-art property showrooms on the Ardkeen Roundabout for our June Business After Hours.&nbsp\;<br />\n<br />\nRE/MAX Team Fogarty have constantly achieved record property prices in Waterford City and County\, under the RE/MAX brand\, which has offices in over 120 countries around the world.<br />\n<br />\nThe team at RE/MAX Team Fogarty will introduce us to mortgagebuddy.ie\, their online\, independent mortgage brokerage\, while there will also be plenty of treats and prizes to be won.
LOCATION:RE/MAX Team Fogarty
UID:e.3615.73
SEQUENCE:3
DTSTAMP:20260423T151334Z
URL:http://crm.waterfordchamber.ie/events/details/business-after-hours-at-re-max-73
END:VEVENT

END:VCALENDAR
