BEGIN:VCALENDAR
VERSION:2.0
PRODID:-//ChamberMaster//Event Calendar 2.0//EN
METHOD:PUBLISH
X-PUBLISHED-TTL:P3D
REFRESH-INTERVAL:P3D
CALSCALE:GREGORIAN
BEGIN:VEVENT
DTSTART:20220908T160000Z
DTEND:20220908T180000Z
X-MICROSOFT-CDO-ALLDAYEVENT:FALSE
SUMMARY:Business After Hours at OfficeMaster
DESCRIPTION:OfficeMaster are hosting 'Business After Hours' networking event on Thursday\, 8th September.\n\n\n\nCome along from 5   7pm to see their new-look working showroom\, connect with fellow Waterford businesses\, enjoy the refreshments from the local bakery Berkana and prizes on the night.\n\n\n\nOfficeMaster celebrates 50 years in business in 2023 and what better time to reflect on how local business has helped us grow\, endure and diversify across 5 decades of trading.
X-ALT-DESC;FMTTYPE=text/html:OfficeMaster are hosting &lsquo\;Business After Hours&rsquo\; networking event on Thursday\, 8<sup>th</sup> September.<br />\n<br />\nCome along from 5 &ndash\; 7pm to see their new-look working showroom\, connect with fellow Waterford businesses\, enjoy the refreshments from the local bakery Berkana and prizes on the night.<br />\n<br />\nOfficeMaster celebrates 50 years in business in 2023 and what better time to reflect on how local business has helped us grow\, endure and diversify across 5 decades of trading.<br />\n<br />\n&nbsp\;
LOCATION:
UID:e.3615.64
SEQUENCE:3
DTSTAMP:20260421T124436Z
URL:http://crm.waterfordchamber.ie/events/details/business-after-hours-at-officemaster-64
END:VEVENT

END:VCALENDAR
