BEGIN:VCALENDAR
VERSION:2.0
PRODID:-//ChamberMaster//Event Calendar 2.0//EN
METHOD:PUBLISH
X-PUBLISHED-TTL:P3D
REFRESH-INTERVAL:P3D
CALSCALE:GREGORIAN
BEGIN:VEVENT
DTSTART:20221110T173000Z
DTEND:20221110T193000Z
X-MICROSOFT-CDO-ALLDAYEVENT:FALSE
SUMMARY:Business After Hours at Musgrave MarketPlace 2022
DESCRIPTION:Join us at Musgrave MarketPlace on Thursday\, 10th November from 5:30 to 7:30pm for a special Business After Hours of networking and festive fun\, while raising much needed funds for local charity Oasis house.\n\nIndulge in some tasty treats from Coffee House Lane and in-store demonstrations. Take part in a little bit of Christmas fun to bring out the big kid in you. And as always with our Christmas Business After Hours\, you are more than welcome to 'bring the kids to work' and we'll have lots of fun and games for them too.\n\n\n\nThis event is free to attend but we do ask you make a donation on your arrival so we can lend support to the Oasis House Women's Refuge\, which is the Musgrave MarketPlace chosen charity of the year nationally.
X-ALT-DESC;FMTTYPE=text/html:<p><strong>Join us at Musgrave MarketPlace on Thursday\, 10th November from 5:30 to 7:30pm for a special Business After Hours of networking and festive fun\, while raising much needed funds for local charity Oasis house.</strong></p>\n\n<p>Indulge in some tasty treats from Coffee House Lane and in-store demonstrations. Take part in a little bit of Christmas fun to bring out the big kid in you. And as always with our Christmas Business After Hours\, you are more than welcome to &lsquo\;bring the kids to work&rsquo\; and we&rsquo\;ll have lots of fun and games for them too.<br aria-hidden="true" />\n<br aria-hidden="true" />\nThis event is free to attend but we do ask you make a donation on your arrival so we can lend support to the Oasis House Women&#39\;s Refuge\, which is the Musgrave MarketPlace chosen charity of the year nationally.&nbsp\;</p>\n
LOCATION:
UID:e.3615.86
SEQUENCE:3
DTSTAMP:20260421T124747Z
URL:http://crm.waterfordchamber.ie/events/details/business-after-hours-at-musgrave-marketplace-2022-86
END:VEVENT

END:VCALENDAR
