BEGIN:VCALENDAR
VERSION:2.0
PRODID:-//ChamberMaster//Event Calendar 2.0//EN
METHOD:PUBLISH
X-PUBLISHED-TTL:P3D
REFRESH-INTERVAL:P3D
CALSCALE:GREGORIAN
BEGIN:VEVENT
DTSTART:20211118T173000Z
DTEND:20211118T193000Z
X-MICROSOFT-CDO-ALLDAYEVENT:FALSE
SUMMARY:Business After Hours at Musgrave MarketPlace 2021
DESCRIPTION:It is with regret that we have decided to cancel our Festive Business After Hours Event. The decision has been made considering the latest Public Health advice and in light of the recent increases in cases of Covid-19. Both Musgraves and Waterford Chamber feel this is in the best interests of our Members\, Customers and Teams.\n\n\n\nJoin us at Musgrave MarketPlace on Thursday\, 18th November for a special Business After Hours of networking and festive fun\, while raising much needed funds for local charity Pine Grove Day Centre\, Alzheimer Society of Ireland.\n\n\n\nIndulge in some tasty treats from in-store demonstrations and take part in a little bit of Christmas fun to bring out the big kid in you. And as always with our Christmas Business After Hours\, you are more than welcome to 'bring the kids to work' and we'll have lots of fun and games for them too\, including an in-store treasure hunt.\n\n\n\nThis event is free to attend but we do ask you make a donation on your arrival so we can lend support to the Pine Grove Day Centre and the Alzheimer Society of Ireland\, which is the Musgrave MarketPlace chosen charity of the year nationally.
X-ALT-DESC;FMTTYPE=text/html:<span style="color:#FF0000\;"><span style="font-size:16px\;"><strong>It is with regret that we have decided to cancel our Festive Business After Hours Event.&nbsp\;The decision has been made considering the latest Public Health advice and in light of the recent increases in cases of Covid-19. Both Musgraves and Waterford Chamber feel this is in the best interests of our Members\, Customers and Teams.</strong></span></span><br />\n<br />\n<strong>Join us at Musgrave MarketPlace on Thursday\, 18th November for a special Business After Hours of networking and festive fun\, while raising much needed funds for local charity Pine Grove Day Centre\, Alzheimer Society of Ireland.</strong><br />\n<br />\nIndulge in some tasty treats from in-store demonstrations and take part in a little bit of Christmas fun to bring out the big kid in you. And as always with our Christmas Business After Hours\, you are more than welcome to &lsquo\;bring the kids to work&rsquo\; and we&rsquo\;ll have lots of fun and games for them too\, including an in-store treasure hunt.<br />\n<br />\nThis event is free to attend but we do ask you make a donation on your arrival so we can lend support to the Pine Grove Day Centre and the Alzheimer Society of Ireland\, which is the Musgrave MarketPlace chosen charity of the year nationally.
LOCATION:
UID:e.3615.41
SEQUENCE:3
DTSTAMP:20260424T050117Z
URL:http://crm.waterfordchamber.ie/events/details/business-after-hours-at-musgrave-marketplace-2021-41
END:VEVENT

END:VCALENDAR
