BEGIN:VCALENDAR
VERSION:2.0
PRODID:-//ChamberMaster//Event Calendar 2.0//EN
METHOD:PUBLISH
X-PUBLISHED-TTL:P3D
REFRESH-INTERVAL:P3D
CALSCALE:GREGORIAN
BEGIN:VEVENT
DTSTART:20251120T173000Z
DTEND:20251120T190000Z
X-MICROSOFT-CDO-ALLDAYEVENT:FALSE
SUMMARY:Business After Hours at House of Waterford
DESCRIPTION:Waterford Chamber looks forward to welcoming you to our next Business After Hours at the amazing House of Waterford.\n\n\n\nAn icon of Waterford all over the world\, come along to the home of one of the world's most famous brands on The Mall on Thursday\, 20th November from 5.30pm\, where you will be treated to an evening of sparkling delights among the crystal.\n\n\n\nThis event is open to both Chamber members and non-members\, so why not invite a friend and enjoy a great evening of networking.
X-ALT-DESC;FMTTYPE=text/html:Waterford Chamber looks forward to welcoming you to our next Business After Hours at the amazing House of Waterford.<br />\n<br />\nAn icon of Waterford all over the world\, come along to the home of one of the world&#39\;s most famous brands on The Mall on Thursday\, 20th November from 5.30pm\, where you will be treated to an evening of sparkling delights among the crystal.<br />\n<br />\nThis event is open to both Chamber members and non-members\, so why not invite a friend and enjoy a great evening of networking.
LOCATION:
UID:e.3615.149
SEQUENCE:3
DTSTAMP:20260421T141143Z
URL:http://crm.waterfordchamber.ie/events/details/business-after-hours-at-house-of-waterford-149
END:VEVENT

END:VCALENDAR
