BEGIN:VCALENDAR
VERSION:2.0
PRODID:-//ChamberMaster//Event Calendar 2.0//EN
METHOD:PUBLISH
X-PUBLISHED-TTL:P3D
REFRESH-INTERVAL:P3D
CALSCALE:GREGORIAN
BEGIN:VEVENT
DTSTART:20251204T173000Z
DTEND:20251204T190000Z
X-MICROSOFT-CDO-ALLDAYEVENT:FALSE
SUMMARY:Business After Hours at Ezfees Financial
DESCRIPTION:Join us on Thursday\, 4th December from 5.30pm for our Business After Hours event held in Ezfees Financial in Riverstown Business Park Tramore X91 K228.\n\n\n\nCome along for an evening of warm festive cheer\, great company\, and valuable networking as we close out the year together. It's the perfect chance to connect with fellow members\, celebrate the season\, and toast to the successes of the year gone by. We look forward to seeing you there! \n\n\n\nEzfees Financial specialise in Mortgages\, Pensions\, Life insurance and Savings & Investments. Our mission is to provide easy to understand financial advice for your unique needs and goals ensuring a smooth path to owning your home and long-term financial security. We help build a financial future where you are fully in control.\n\n \n\nLight refreshments will be served and the Team at Ezfees Financial look forward to welcoming you on the day.\n\n\n\nFree to attend for both Chamber members and non-members.
X-ALT-DESC;FMTTYPE=text/html:<strong>Join us on Thursday\, 4th December from 5.30pm for our Business After Hours event held in Ezfees Financial in Riverstown Business Park Tramore X91 K228.</strong><br />\n<br />\nCome along for an evening of warm festive cheer\, great company\, and valuable networking as we close out the year together. It&#39\;s the perfect chance to connect with fellow members\, celebrate the season\, and toast to the successes of the year gone by. We look forward to seeing you there!&nbsp\;<br />\n<br />\nEzfees Financial specialise in Mortgages\, Pensions\, Life insurance and Savings &amp\; Investments. Our mission is to provide easy to understand financial advice for your unique needs and goals ensuring a smooth path to owning your home and long-term financial security. We help build a financial future where you are fully in control.<br />\n&nbsp\;<br />\nLight refreshments will be served and the Team at Ezfees Financial look forward to welcoming you on the day.<br />\n<br />\nFree to attend for both Chamber members and non-members.
LOCATION:
UID:e.3615.141
SEQUENCE:3
DTSTAMP:20260421T153452Z
URL:http://crm.waterfordchamber.ie/events/details/business-after-hours-at-ezfees-financial-141
END:VEVENT

END:VCALENDAR
