BEGIN:VCALENDAR
VERSION:2.0
PRODID:-//ChamberMaster//Event Calendar 2.0//EN
METHOD:PUBLISH
X-PUBLISHED-TTL:P3D
REFRESH-INTERVAL:P3D
CALSCALE:GREGORIAN
BEGIN:VEVENT
DTSTART:20251008T063000Z
DTEND:20251008T080000Z
X-MICROSOFT-CDO-ALLDAYEVENT:FALSE
SUMMARY:Budget 2026 Breakfast Briefing with PwC
DESCRIPTION:Waterford Chamber and PwC are delighted to invite you to our Breakfast Briefing where a panel of experts will share their views and answer your questions on Budget 2026 and what the impacts might be for you\, your business and the economy.\n\n\n\nSpeakers include:\n\n	Jim Power\, Economist\, Author & Lecturer at Smurfit Business School and joint broadcaster of The Other Hand podcast\n	Eamon O'Connor\, Senior Tax Manager\, PwC\n\nTime:\n\n7.30am - Registration and breakfast\n\n8.00am - Briefing commences\n\n9.00am - Briefing concludes
X-ALT-DESC;FMTTYPE=text/html:Waterford Chamber and PwC are delighted to invite you to our Breakfast Briefing where a panel of experts will share their views and answer your questions on Budget 2026 and what the impacts might be for you\, your business and the economy.<br />\n<br />\n<strong>Speakers include:</strong>\n<ul>\n	<li>Jim Power\, Economist\, Author &amp\; Lecturer at Smurfit Business School and joint broadcaster of The Other Hand podcast</li>\n	<li>Eamon O&#39\;Connor\, Senior Tax Manager\, PwC</li>\n</ul>\n<strong>Time:</strong><br />\n7.30am - Registration and breakfast<br />\n8.00am - Briefing commences<br />\n9.00am - Briefing concludes
LOCATION:Granville Hotel\, The Quay\, Waterford
UID:e.3615.155
SEQUENCE:3
DTSTAMP:20260421T124303Z
URL:http://crm.waterfordchamber.ie/events/details/budget-2026-breakfast-briefing-with-pwc-155
END:VEVENT

END:VCALENDAR
