BEGIN:VCALENDAR
VERSION:2.0
PRODID:-//ChamberMaster//Event Calendar 2.0//EN
METHOD:PUBLISH
X-PUBLISHED-TTL:P3D
REFRESH-INTERVAL:P3D
CALSCALE:GREGORIAN
BEGIN:VEVENT
DTSTART:20220928T063000Z
DTEND:20220928T080000Z
X-MICROSOFT-CDO-ALLDAYEVENT:FALSE
SUMMARY:Budget 2023 Breakfast Briefing
DESCRIPTION:PwC Waterford in partnership with Waterford Chamber: Budget 2023 analysis\n\n\n\nWe are delighted to invite you to an in-person Budget 2023 briefing on 28 September at 7.30am at Dooley's Hotel\, Waterford.\n\n\n\nWhile this year's 'cost of living' budget is widely expected to tackle inflation and ease the burden on citizens in the short-term\, the Government must also address other\, longer-term issues.\n\n\n\nSo\, what will these changes mean for you\, your business and your customers? To consider the impacts\, we will be joined by Economist Jim Power. \n\n\n\nIf you have any questions in relation to the event\, please contact: Emma O'Neill\, emma.oneill@pwc.com.\n\n\n\nRegister at https://event.webcasts.com/starthere.jsp?ei=1568309&tp_key=912f676abd
X-ALT-DESC;FMTTYPE=text/html:<strong>PwC Waterford in partnership with Waterford Chamber: Budget 2023 analysis</strong><br />\n<br />\nWe are delighted to invite you to an in-person Budget 2023 briefing on 28 September at 7.30am at Dooley&#39\;s Hotel\, Waterford.<br />\n<br />\nWhile this year&rsquo\;s &lsquo\;cost of living&rsquo\; budget is widely expected to tackle inflation and ease the burden on citizens in the short-term\, the Government must also address other\, longer-term issues.<br />\n<br />\nSo\, what will these changes mean for you\, your business and your customers? To consider the impacts\, we will be joined by Economist Jim Power.&nbsp\;<br />\n<br />\nIf you have any questions in relation to the event\, please contact: Emma O&#39\;Neill\, <a href="mailto:emma.oneill@pwc.com">emma.oneill@pwc.com</a>.<br />\n<br />\n<strong>Register at&nbsp\;<a href="https://event.webcasts.com/starthere.jsp?ei=1568309&amp\;tp_key=912f676abd" target="_blank">https://event.webcasts.com/starthere.jsp?ei=1568309&amp\;tp_key=912f676abd</a></strong>
LOCATION:Dooley's Hotel\, Waterford
UID:e.3615.82
SEQUENCE:3
DTSTAMP:20260421T124235Z
URL:http://crm.waterfordchamber.ie/events/details/budget-2023-breakfast-briefing-82
END:VEVENT

END:VCALENDAR
