BEGIN:VCALENDAR
VERSION:2.0
PRODID:-//ChamberMaster//Event Calendar 2.0//EN
METHOD:PUBLISH
X-PUBLISHED-TTL:P3D
REFRESH-INTERVAL:P3D
CALSCALE:GREGORIAN
BEGIN:VEVENT
DTSTART:20220608T070000Z
DTEND:20220608T083000Z
X-MICROSOFT-CDO-ALLDAYEVENT:FALSE
SUMMARY:Breakfast Briefing: Revenue Audits and the Tax Appeals Commission (TAC)
DESCRIPTION:PwC South East in conjunction with Waterford Chamber are delighted to host an in-person briefing on Wednesday\, 8th June. The briefing will cover current Revenue Audit practice including an overview of the new Revenue Compliance Intervention Framework and insights into the TAC and recent trends in resolving disputes with Revenue through the appeal process.\n\n \n\nDate: Wednesday\, 8th June\n\nLocation: Granville Hotel\, Waterford\n\nTime:\n\n8.00am - Registration and Breakfast\n\n8.30am - 9.30am - Briefing and Questions & Answers\n\n\n\nOur speakers are as follows:\n\n\n	Danielle Cunniffe - Tax Director in our Tax Risk and Controversy team \n	Florita Dolly - Tax Director in our Tax Risk and Controversy team \n	Ciara O'Connor - Tax Senior Manager in our PwC South East team \n\n\nTo register your attendance\, please click here.
X-ALT-DESC;FMTTYPE=text/html:<div><strong>PwC South East in conjunction with Waterford Chamber are delighted to host an in-person briefing on Wednesday\, 8th June. The briefing will cover current Revenue Audit practice including an overview of the new Revenue Compliance Intervention Framework and insights into the TAC and recent trends in resolving disputes with Revenue through the appeal process.</strong></div>\n\n<div>&nbsp\;</div>\n\n<div><strong>Date:</strong> Wednesday\, 8th June</div>\n\n<div><strong>Location:</strong> Granville Hotel\, Waterford</div>\n\n<div><strong>Time:</strong><br />\n8.00am - Registration and Breakfast</div>\n\n<div>8.30am - 9.30am - Briefing and Questions &amp\; Answers</div>\n\n<div><br />\nOur speakers are as follows:</div>\n\n<ul>\n	<li>Danielle Cunniffe - Tax Director in our Tax Risk and Controversy team&nbsp\;</li>\n	<li>Florita Dolly - Tax Director in our Tax Risk and Controversy team&nbsp\;</li>\n	<li>Ciara O&rsquo\;Connor - Tax Senior Manager in our PwC South East team&nbsp\;</li>\n</ul>\n\n<div><strong>To register your attendance\, please <a href="https://event.webcasts.com/starthere.jsp?ei=1551134&amp\;tp_key=98ad84af14&amp\;j=261146&amp\;sfmc_sub=520733&amp\;l=16_HTML&amp\;u=4746111&amp\;mid=510000766&amp\;jb=1" target="_blank">click here</a>.</strong></div>\n
LOCATION:
UID:e.3615.75
SEQUENCE:3
DTSTAMP:20260423T151539Z
URL:http://crm.waterfordchamber.ie/events/details/breakfast-briefing-revenue-audits-and-the-tax-appeals-commission-tac-75
END:VEVENT

END:VCALENDAR
